BEGIN:VCALENDAR
VERSION:2.0
PRODID:-//ical.marudot.com//iCal Event Maker
CALSCALE:GREGORIAN
BEGIN:VTIMEZONE
TZID:America/Havana
LAST-MODIFIED:20250410T142247Z
TZURL:https://www.tzurl.org/zoneinfo-outlook/America/Havana
X-LIC-LOCATION:America/Havana
BEGIN:STANDARD
TZNAME:CST
TZOFFSETFROM:-0400
TZOFFSETTO:-0500
DTSTART:19701101T010000
RRULE:FREQ=YEARLY;BYMONTH=11;BYDAY=1SU
END:STANDARD
BEGIN:DAYLIGHT
TZNAME:CDT
TZOFFSETFROM:-0500
TZOFFSETTO:-0400
DTSTART:19700308T000000
RRULE:FREQ=YEARLY;BYMONTH=3;BYDAY=2SU
END:DAYLIGHT
END:VTIMEZONE
BEGIN:VEVENT
DTSTAMP:20260121T184430Z
UID:1769021055041-45460@ical.marudot.com
DTSTART;TZID=America/Havana:20260326T173000
DTEND;TZID=America/Havana:20260326T193000
SUMMARY:Beyond the Buzz: Tech & Innovation Happy Hour
URL:https://resources.leadershipconnect.io/leadership-connects-beyond-the-buzz-tech-innovation-happy-hour
LOCATION:525 9th Street NW\, Suite 600 Washington\, DC 20004
END:VEVENT
END:VCALENDAR